BEGIN:VCALENDAR
VERSION:2.0
PRODID:-//Chook Digital//Lido Cinemas//EN
BEGIN:VEVENT
DTSTAMP:20210227T113208Z
UID:no-reply@lidocinemas.com.au
DTSTART:20211112T130000Z
DTEND:20211112T152700Z
LOCATION:675 Glenferrie Road Hawthorn 3122
SUMMARY;LANGUAGE=en-au:Lido Cinemas: Broken Embraces (2009)
DESCRIPTION:Broken Embraces (2009)\nHarry Caine, a blind writer, reaches this moment in time when he has to heal his wounds from 14 years back. He was then still known by his real name, Mateo Blanco, and directing his last movie.
X-ALT-DESC;FMTTYPE=text/html:<strong>Lido Cinemas: Broken Embraces (2009)</strong><p>Harry Caine, a blind writer, reaches this moment in time when he has to heal his wounds from 14 years back. He was then still known by his real name, Mateo Blanco, and directing his last movie.</p>
END:VEVENT
END:VCALENDAR