BEGIN:VCALENDAR
VERSION:2.0
PRODID:-//Chook Digital//Lido Cinemas//EN
BEGIN:VEVENT
DTSTAMP:20210227T113125Z
UID:no-reply@lidocinemas.com.au
DTSTART:20211029T130000Z
DTEND:20211029T150600Z
LOCATION:675 Glenferrie Road Hawthorn 3122
SUMMARY;LANGUAGE=en-au:Lido Cinemas: Bad Education (2004)
DESCRIPTION:Bad Education (2004)\nTwo children, Ignacio and Enrique, know love, the movies and fear in a religious school at the beginning of the 1960s. Father Manolo, director of the school and its professor of literature, is witness to and part of these discoveries. The three are followed through the next few decades, their reunion marking life and death.
X-ALT-DESC;FMTTYPE=text/html:<strong>Lido Cinemas: Bad Education (2004)</strong><p>Two children, Ignacio and Enrique, know love, the movies and fear in a religious school at the beginning of the 1960s. Father Manolo, director of the school and its professor of literature, is witness to and part of these discoveries. The three are followed through the next few decades, their reunion marking life and death.</p>
END:VEVENT
END:VCALENDAR