BEGIN:VCALENDAR
VERSION:2.0
PRODID:-//Chook Digital//Lido Cinemas//EN
BEGIN:VEVENT
DTSTAMP:20210227T114324Z
UID:no-reply@lidocinemas.com.au
DTSTART:20210815T140000Z
DTEND:20210815T160500Z
LOCATION:675 Glenferrie Road Hawthorn 3122
SUMMARY;LANGUAGE=en-au:Lido Cinemas: All Screwed Up (1974)
DESCRIPTION:All Screwed Up (1974)\nA group of workers from the south of Italy live collectively in Milan, where money isn't everything, it's the only thing, in 1974.
X-ALT-DESC;FMTTYPE=text/html:<strong>Lido Cinemas: All Screwed Up (1974)</strong><p>A group of workers from the south of Italy live collectively in Milan, where money isn't everything, it's the only thing, in 1974.</p>
END:VEVENT
END:VCALENDAR