BEGIN:VCALENDAR
VERSION:2.0
PRODID:-//Chook Digital//Lido Cinemas//EN
BEGIN:VEVENT
DTSTAMP:20210227T113039Z
UID:no-reply@lidocinemas.com.au
DTSTART:20211015T130000Z
DTEND:20211015T150100Z
LOCATION:675 Glenferrie Road Hawthorn 3122
SUMMARY;LANGUAGE=en-au:Lido Cinemas: All About My Mother (1999)
DESCRIPTION:All About My Mother (1999)\nA single mother in Madrid sees her only son die on his birthday as he runs to seek an actress' autograph. Beside herself with grief, she returns to Barcelona to tell the boy's father about the death of the son he never knew he had.
X-ALT-DESC;FMTTYPE=text/html:<strong>Lido Cinemas: All About My Mother (1999)</strong><p>A single mother in Madrid sees her only son die on his birthday as he runs to seek an actress' autograph. Beside herself with grief, she returns to Barcelona to tell the boy's father about the death of the son he never knew he had.</p>
END:VEVENT
END:VCALENDAR