BEGIN:VCALENDAR
METHOD:PUBLISH
PRODID:-//github.com/ical-org/ical.net//NONSGML ical.net 5.2.0//EN
VERSION:2.0
X-WR-CALNAME:wild-horse-nine
X-WR-TIMEZONE:Australia/Sydney
BEGIN:VEVENT
DESCRIPTION:Wild Horse Nine: Shortly before the 1973 Chilean coup\, CIA age
 nts Chris (John Malkovich) and Lee (Sam Rockwell) are dispatched from Sant
 iago to Easter Island by their bureau chief
DTSTAMP:20260420T092622Z
DTSTART:20261104T130000Z
LOCATION:675 Glenferrie Road\, Hawthorn\, VIC 3122
SEQUENCE:0
SUMMARY:Lido Cinemas: Wild Horse Nine
UID:4de90186-55fd-40ff-8dad-2bc0f585f6c2
END:VEVENT
END:VCALENDAR
