BEGIN:VCALENDAR
METHOD:PUBLISH
PRODID:-//github.com/ical-org/ical.net//NONSGML ical.net 5.2.0//EN
VERSION:2.0
X-WR-CALNAME:the-rivals-of-amziah-king
X-WR-TIMEZONE:Australia/Sydney
BEGIN:VEVENT
DESCRIPTION:The Rivals of Amziah King: Kateri's life takes a tragic turn as
  she loses her mother and leaves foster care. Reuniting with her former fo
 ster parent\, Amziah\, changes everything.
DTSTAMP:20260420T092224Z
DTSTART:20260819T140000Z
LOCATION:675 Glenferrie Road\, Hawthorn\, VIC 3122
SEQUENCE:0
SUMMARY:Lido Cinemas: The Rivals of Amziah King
UID:7e43a928-1782-4f91-8782-f79c4ec30814
END:VEVENT
END:VCALENDAR
