BEGIN:VCALENDAR
METHOD:PUBLISH
PRODID:-//github.com/ical-org/ical.net//NONSGML ical.net 5.2.0//EN
VERSION:2.0
X-WR-CALNAME:the-hunger-games-sunrise-on-the-reaping
X-WR-TIMEZONE:Australia/Sydney
BEGIN:VEVENT
DESCRIPTION:The Hunger Games: Sunrise on the Reaping: The Hunger Games: Sun
 rise on the Reaping will revisit the world of Panem twenty-four years befo
 re the events of The Hunger Games\, starting on the morning of the reaping
 .
DTSTAMP:20260420T092534Z
DTSTART:20261118T130000Z
LOCATION:675 Glenferrie Road\, Hawthorn\, VIC 3122
SEQUENCE:0
SUMMARY:Lido Cinemas: The Hunger Games: Sunrise on the Reaping
UID:3e260d78-daf9-4e3c-bfac-cca8901ef5f0
END:VEVENT
END:VCALENDAR
