BEGIN:VCALENDAR
METHOD:PUBLISH
PRODID:-//github.com/ical-org/ical.net//NONSGML ical.net 5.2.0//EN
VERSION:2.0
X-WR-CALNAME:the-cat-in-the-hat
X-WR-TIMEZONE:Australia/Sydney
BEGIN:VEVENT
DESCRIPTION:The Cat in the Hat: A clever cat brings chaos and mischief to t
 he home of two young children.
DTSTAMP:20260420T090919Z
DTSTART:20261202T130000Z
LOCATION:675 Glenferrie Road\, Hawthorn\, VIC 3122
SEQUENCE:0
SUMMARY:Lido Cinemas: The Cat in the Hat
UID:5dfec9cb-4e0c-4f56-b205-dcdfbc74be06
END:VEVENT
END:VCALENDAR
