BEGIN:VCALENDAR
METHOD:PUBLISH
PRODID:-//github.com/ical-org/ical.net//NONSGML ical.net 5.2.0//EN
VERSION:2.0
X-WR-CALNAME:taboo-egon-schiele
X-WR-TIMEZONE:Australia/Sydney
BEGIN:VEVENT
DESCRIPTION:Taboo. Egon Schiele: One of the most radical artists of the 20t
 h century\, who died at just 28. A Short Life\, A Restless Soul. Art that 
 speaks to the young.
DTSTAMP:20260420T092746Z
DTSTART:20260710T140000Z
LOCATION:675 Glenferrie Road\, Hawthorn\, VIC 3122
SEQUENCE:0
SUMMARY:Lido Cinemas: Taboo. Egon Schiele
UID:b6178598-51cc-4308-bf1e-e9ae6591511f
END:VEVENT
END:VCALENDAR
