BEGIN:VCALENDAR
METHOD:PUBLISH
PRODID:-//github.com/ical-org/ical.net//NONSGML ical.net 5.2.0//EN
VERSION:2.0
X-WR-CALNAME:primavera
X-WR-TIMEZONE:Australia/Sydney
BEGIN:VEVENT
DESCRIPTION:Primavera: 
DTSTAMP:20260420T091925Z
DTSTART:20260506T140000Z
LOCATION:675 Glenferrie Road\, Hawthorn\, VIC 3122
SEQUENCE:0
SUMMARY:Lido Cinemas: Primavera
UID:241bf84e-8c5a-433b-88eb-a81d8ce19fe0
END:VEVENT
END:VCALENDAR
