BEGIN:VCALENDAR
METHOD:PUBLISH
PRODID:-//github.com/ical-org/ical.net//NONSGML ical.net 5.2.0//EN
VERSION:2.0
X-WR-CALNAME:penny-lane-is-dead
X-WR-TIMEZONE:Australia/Sydney
BEGIN:VEVENT
DESCRIPTION:Penny Lane Is Dead: 
DTSTAMP:20260422T101217Z
DTSTART:20260722T140000Z
LOCATION:675 Glenferrie Road\, Hawthorn\, VIC 3122
SEQUENCE:0
SUMMARY:Lido Cinemas: Penny Lane Is Dead
UID:7e8a1211-01db-44cd-a445-ce1acb9f8523
END:VEVENT
END:VCALENDAR
