BEGIN:VCALENDAR
METHOD:PUBLISH
PRODID:-//github.com/ical-org/ical.net//NONSGML ical.net 5.2.0//EN
VERSION:2.0
X-WR-CALNAME:human-forever
X-WR-TIMEZONE:Australia/Sydney
BEGIN:VEVENT
DESCRIPTION:Human Forever: The award-winning international sensation docume
 ntary that is reshaping how we think about dementia.24-year-old humanitari
 an activist and author Teun Toebes has a mission: to improve the quality o
 f life of people living with dementia. As the number of people with dement
 ia is set to double in the next 20 years\, Teun's quest is not a question\
 , but a necessity.
DTSTAMP:20260422T113541Z
DTSTART:20260606T140000Z
LOCATION:675 Glenferrie Road\, Hawthorn\, VIC 3122
SEQUENCE:0
SUMMARY:Lido Cinemas: Human Forever
UID:10bfb97f-db19-4ef8-97f7-9ddb9b3a56b2
END:VEVENT
END:VCALENDAR
