BEGIN:VCALENDAR
METHOD:PUBLISH
PRODID:-//github.com/ical-org/ical.net//NONSGML ical.net 5.2.0//EN
VERSION:2.0
X-WR-CALNAME:hitlers-big-fear-the-trial-against-degenerate-art
X-WR-TIMEZONE:Australia/Sydney
BEGIN:VEVENT
DESCRIPTION:Hitler’s Big Fear – The Trial Against Degenerate Art: In 19
 37\, the Nazi regime launched its war on modernity\, branding artists like
  Picasso\, Chagall\, Van Gogh\, and Matisse as “degenerate”. Their wor
 ks were banned\, destroyed.
DTSTAMP:20260420T085725Z
DTSTART:20260501T140000Z
LOCATION:675 Glenferrie Road\, Hawthorn\, VIC 3122
SEQUENCE:0
SUMMARY:Lido Cinemas: Hitler’s Big Fear – The Trial Against Degenerate 
 Art
UID:d26603b7-db37-44c1-9e95-fbbf2a04c048
END:VEVENT
END:VCALENDAR
