BEGIN:VCALENDAR
METHOD:PUBLISH
PRODID:-//github.com/ical-org/ical.net//NONSGML ical.net 5.2.0//EN
VERSION:2.0
X-WR-CALNAME:fuze
X-WR-TIMEZONE:Australia/Sydney
BEGIN:VEVENT
DESCRIPTION:Fuze: 
DTSTAMP:20260420T091837Z
DTSTART:20260415T140000Z
LOCATION:675 Glenferrie Road\, Hawthorn\, VIC 3122
SEQUENCE:0
SUMMARY:Lido Cinemas: Fuze
UID:0bff8868-8489-43b8-ba28-4fd12066d0bd
END:VEVENT
END:VCALENDAR
