BEGIN:VCALENDAR
METHOD:PUBLISH
PRODID:-//github.com/ical-org/ical.net//NONSGML ical.net 5.2.0//EN
VERSION:2.0
X-WR-CALNAME:chiff-buffalo-kids
X-WR-TIMEZONE:Australia/Sydney
BEGIN:VEVENT
DESCRIPTION:CHIFF: Buffalo Kids: Two Irish orphans travel to New York and e
 mbark on an exciting train journey to meet their uncle and claim his inher
 itance. While befriending a governess who is supervising another group of 
 orphans\, they must face an attack by bandits.
DTSTAMP:20260420T093211Z
DTSTART:20260508T140000Z
LOCATION:675 Glenferrie Road\, Hawthorn\, VIC 3122
SEQUENCE:0
SUMMARY:Lido Cinemas: CHIFF: Buffalo Kids
UID:017ec516-3391-4453-a548-9b1ccf63a82e
END:VEVENT
END:VCALENDAR
