BEGIN:VCALENDAR
METHOD:PUBLISH
PRODID:-//github.com/ical-org/ical.net//NONSGML ical.net 5.2.0//EN
VERSION:2.0
X-WR-CALNAME:bob-sedergreen-and-friends-with-home-cooking
X-WR-TIMEZONE:Australia/Sydney
BEGIN:VEVENT
DESCRIPTION:Bob Sedergreen and Friends with Home Cooking: Jazz piano legend
  Bob Sedergreen\, drummer Sonja Horbelt and bassist Ivan Rosa are a tight 
 and empathetic rhythm section having performed together for over two decad
 es including a residency at Il Primo restaurant in Carlton followed by the
  release of their definitive recording\, ‘The First One’. All three ar
 e involved in education and teach at a plethora of Melbourne schools.
DTSTAMP:20260421T090256Z
DTSTART:20260515T140000Z
LOCATION:675 Glenferrie Road\, Hawthorn\, VIC 3122
SEQUENCE:0
SUMMARY:Lido Cinemas: Bob Sedergreen and Friends with Home Cooking
UID:7a5e7cd5-2779-43e8-8bcc-53437bd2e069
END:VEVENT
END:VCALENDAR
