BEGIN:VCALENDAR
METHOD:PUBLISH
PRODID:-//github.com/ical-org/ical.net//NONSGML ical.net 5.2.0//EN
VERSION:2.0
X-WR-CALNAME:amelia-evans-quartet
X-WR-TIMEZONE:Australia/Sydney
BEGIN:VEVENT
DESCRIPTION:Amelia Evans Quartet: The Amelia Evans Quartet seeks to combine
  vocal jazz artistry and improvisation with timeless jazz standards\, orig
 inal works and songs from the Australian Jazz canon.
DTSTAMP:20260421T081922Z
DTSTART:20260626T140000Z
LOCATION:675 Glenferrie Road\, Hawthorn\, VIC 3122
SEQUENCE:0
SUMMARY:Lido Cinemas: Amelia Evans Quartet
UID:92436936-6685-429c-907c-eab1afce4dc8
END:VEVENT
END:VCALENDAR
