BEGIN:VCALENDAR
METHOD:PUBLISH
PRODID:-//github.com/ical-org/ical.net//NONSGML ical.net 5.2.0//EN
VERSION:2.0
X-WR-CALNAME:all-my-friends-are-back-in-brisbane
X-WR-TIMEZONE:Australia/Sydney
BEGIN:VEVENT
DESCRIPTION:All My Friends Are Back in Brisbane: After being dumped by her 
 fiancé in London\, a lawyer returns home to Brisbane and finds herself wo
 rking with the now-married ex-boyfriend she left a decade earlier.
DTSTAMP:20260422T114909Z
DTSTART:20260617T140000Z
LOCATION:675 Glenferrie Road\, Hawthorn\, VIC 3122
SEQUENCE:0
SUMMARY:Lido Cinemas: All My Friends Are Back in Brisbane
UID:56ed1529-fe34-471f-a0af-de1eba01e97b
END:VEVENT
END:VCALENDAR
